BEGIN:VCALENDAR
VERSION:2.0
PRODID:-//ChamberMaster//Event Calendar 2.0//EN
METHOD:PUBLISH
X-PUBLISHED-TTL:P1H
REFRESH-INTERVAL:P1H
CALSCALE:GREGORIAN
BEGIN:VTIMEZONE
TZID:America/Denver
BEGIN:DAYLIGHT
RRULE:FREQ=YEARLY;BYMONTH=3;BYDAY=2SU
DTSTART:20070101T000000
TZOFFSETFROM:-0700
TZOFFSETTO:-0600
TZNAME:Mountain Daylight Time
END:DAYLIGHT
BEGIN:STANDARD
RRULE:FREQ=YEARLY;BYMONTH=11;BYDAY=1SU
DTSTART:20070101T000000
TZOFFSETFROM:-0600
TZOFFSETTO:-0700
TZNAME:Mountain Standard Time
END:STANDARD
END:VTIMEZONE
BEGIN:VEVENT
DTSTART;TZID=America/Denver:20260514T173000
DTEND;TZID=America/Denver:20260514T190000
X-MICROSOFT-CDO-ALLDAYEVENT:FALSE
SUMMARY:Battle of the Boards
DESCRIPTION:Get ready for a delicious showdown! Bring your best charcuterie board for a chance to be crowned the ultimate board champion\, or come ready to taste and cast your vote. Board's don't need to be only cheese and crackers\, we've seen dessert and booze boards as well. Be creative! Whether you're a board-building pro or just here for the bites\, this is one event you won't want to miss.Attending and interested in bringing a board? Sign up here: NMAR: Battle of the Boards Your ticket purchase is an investment into RPAC\, helping to promote and protect homeownership and property rights in Montana.We're also thrilled to welcome a special guest: Rebecca Donatelli\, Chair of the NAR RPAC Participation Council. Rebecca will be sharing insights on the impact of RPAC and why it matters to you and your business.Why Your RPAC Investment MattersEvery time legislators meet\, your business is on the line. Your RPAC investment helps:Fight excessive regulations on our industryProtect private property rightsPrevent new taxes that make homeownership more expensiveMaintain your ability to operate as an independent contractorFor the cost of a night out\, you're helping safeguard the real estate industry that supports your livelihood. This year alone\, RPAC advocacy defeated harmful legislation that would have directly impacted your business. Come hear from Rebecca firsthand why your participation makes a difference.We'll see you there!
X-ALT-DESC;FMTTYPE=text/html:<!DOCTYPE html><html><head><title></title></head><body aria-disabled="false"><p>Get ready for a delicious showdown! Bring your best charcuterie board for a chance to be crowned the ultimate board champion\, or come ready to taste and cast your vote. Board&#39\;s don&#39\;t need to be only cheese and crackers\, we&#39\;ve seen dessert and booze boards as well. Be creative! Whether you&#39\;re a board-building pro or just here for the bites\, this is one event you won&#39\;t want to miss.</p><p>Attending and interested in bringing a board? Sign up here: <a fr-original-style="" href="https://www.signupgenius.com/go/10C0A45A8AF2AA2FDC07-63117740-battle#/" style="user-select: auto\;">NMAR: Battle of the Boards</a>&nbsp\;</p><p>Your ticket purchase is an investment into RPAC\, helping to promote and protect homeownership and property rights in Montana.</p><p>We&#39\;re also thrilled to welcome a special guest: Rebecca Donatelli\, Chair of the NAR RPAC Participation Council. Rebecca will be sharing insights on the impact of RPAC and why it matters to you and your business.</p><p><strong fr-original-style="" style="font-weight: 700\;">Why Your RPAC Investment Matters</strong></p><p>Every time legislators meet\, your business is on the line. Your RPAC investment helps:</p><ul fr-original-style="" style="list-style-position: inside\;"><li>Fight excessive regulations on our industry</li><li>Protect private property rights</li><li>Prevent new taxes that make homeownership more expensive</li><li>Maintain your ability to operate as an independent contractor</li></ul><p>For the cost of a night out\, you&#39\;re helping safeguard the real estate industry that supports your livelihood. This year alone\, RPAC advocacy defeated harmful legislation that would have directly impacted your business. Come hear from Rebecca firsthand why your participation makes a difference.</p><p>We&#39\;ll see you there!</p></body></html>
LOCATION:2282 U.S. 93 S\, Suite B Kalispell MT 59901
UID:e.2834.1425048
SEQUENCE:3
DTSTAMP:20260425T020848Z
URL:https://members.nmar.com/events-calendar/Details/battle-of-the-boards-1685094?sourceTypeId=Hub
END:VEVENT
END:VCALENDAR
